BEGIN:VCALENDAR
VERSION:2.0
PRODID:-//Tukios.com/
BEGIN:VEVENT
UID:3a42cce3-8e07-482c-b91d-102cf28ac811@www.jottofuneralhomes.com
DTSTAMP:20260422T002448Z
DTSTART:20260425T150000Z
DTEND:20260425T160000Z
SUMMARY:Burial
DESCRIPTION:
URL:https://www.jottofuneralhomes.com/obituaries/robert-bob-rogers
LOCATION:Mendon Cemetery Mendon Cemetery  Mendon IL 62351
GEO:40.0927903;-91.2828191
END:VEVENT
END:VCALENDAR