BEGIN:VCALENDAR
VERSION:2.0
PRODID:-//Tukios.com/
BEGIN:VEVENT
UID:e784a726-292c-456a-83f0-58ef449a52ff@www.jottofuneralhomes.com
DTSTAMP:20260422T002316Z
DTSTART:20260425T140000Z
DTEND:20260425T150000Z
SUMMARY:Funeral Service
DESCRIPTION:
URL:https://www.jottofuneralhomes.com/obituaries/robert-bob-rogers
LOCATION:J. Otto Funeral Home 208 North State Street  Mendon IL 62351
GEO:40.0890691;-91.2834925
END:VEVENT
END:VCALENDAR