BEGIN:VCALENDAR
VERSION:2.0
PRODID:-//Tukios.com/
BEGIN:VEVENT
UID:daca2869-32b1-4b04-adaf-d9347e91adc9@www.jottofuneralhomes.com
DTSTAMP:20260422T002729Z
DTSTART:20260424T210000Z
DTEND:20260424T230000Z
SUMMARY:Visitation
DESCRIPTION:
URL:https://www.jottofuneralhomes.com/obituaries/robert-bob-rogers
LOCATION:J. Otto Funeral Homes 208 North State Street  Mendon IL 62351
GEO:40.0890691;-91.2834925
END:VEVENT
END:VCALENDAR